BEGIN:VCALENDAR
VERSION:2.0
PRODID:-//eventon.com NONSGML v1.0//EN
CALSCALE:GREGORIAN
METHOD:PUBLISH
BEGIN:VEVENT
UID:69e4d055931ad
DTSTAMP:20260419T125341Z
DTSTART:20250928T150000Z
DTEND:20250928T215900Z
LOCATION:
SUMMARY:STEPHAN BAUER
DESCRIPTION:Stephan Bauer mit&nbsp; „Am Ende der Nerven und noch so viel 
 Ehe übrig“ Ticket 59\, 00 € – inkl. Buffet (Infos weiter unten) Einl
 ass von 16:30 bis 17:00 Uhr &nbsp; „Am Ende der Nerven und noch so viel E
 he übrig“ Nach 20 Jahren Ehe stellt sich jeder die Frage „War es[..]\n
 https://kcctheater.com/events/stephan-bauer-2/
URL:https://kcctheater.com/events/stephan-bauer-2/
END:VEVENT
END:VCALENDAR